BEGIN:VCALENDAR
VERSION:2.0
PRODID:-// eRoom plugin //NONSGML v1.0//EN
CALSCALE:GREGORIAN
BEGIN:VEVENT
UID:eRoom-1776675934
SUMMARY:Introduction Session Creative Content Writing By Sir Zeeshan Naeem
LOCATION:Zoom
DESCRIPTION:Introduction Session Creative Content Writing By Sir Zeeshan Na
 eem is inviting you to a scheduled Zoom meeting.\n\nJoin Zoom Meeting\nhtt
 ps://us02web.zoom.us/j/84969475422?pwd=Uis4WlVGMnd5eWFvcVkzbWxTZ3dOZz09\n
 \nMeeting ID: 84969475422\nPasscode: DSF\n
URL;VALUE=URI:https://us02web.zoom.us/j/84969475422?pwd=Uis4WlVGMnd5eWFvcVkzbWxTZ3dOZz09
DTSTART:20230916T150000Z
DTEND:20230916T154500Z
DTSTAMP:20260420T090534Z
BEGIN:VALARM
ACTION:DISPLAY
DESCRIPTION:Reminder
TRIGGER;RELATED=START:-PT15M
END:VALARM
END:VEVENT
END:VCALENDAR