BEGIN:VCALENDAR
VERSION:2.0
PRODID:-// eRoom plugin //NONSGML v1.0//EN
CALSCALE:GREGORIAN
BEGIN:VEVENT
UID:eRoom-1776761367
SUMMARY:Batch 52 Lecture No 9 Social Media Marketing By Sir Zeeshan Naeem
LOCATION:Zoom
DESCRIPTION:Batch 52 Lecture No 9 Social Media Marketing By Sir Zeeshan Nae
 em is inviting you to a scheduled Zoom meeting.\n\nJoin Zoom Meeting\nhttp
 s://us02web.zoom.us/j/87923298405?pwd=dVZ6dy9DUHhtbTgxbks4bE9Jb3pLQT09\n\n
 Meeting ID: 87923298405\nPasscode: DSF\n
URL;VALUE=URI:https://us02web.zoom.us/j/87923298405?pwd=dVZ6dy9DUHhtbTgxbks4bE9Jb3pLQT09
DTSTART:20231026T144500Z
DTEND:20231026T153000Z
DTSTAMP:20260421T084927Z
BEGIN:VALARM
ACTION:DISPLAY
DESCRIPTION:Reminder
TRIGGER;RELATED=START:-PT15M
END:VALARM
END:VEVENT
END:VCALENDAR