BEGIN:VCALENDAR
VERSION:2.0
PRODID:-// eRoom plugin //NONSGML v1.0//EN
CALSCALE:GREGORIAN
BEGIN:VEVENT
UID:eRoom-1776675075
SUMMARY:Batch 52 Lecture No 3 Animation &#038; AE By Sir Zeeshan Naeem
LOCATION:Zoom
DESCRIPTION:Batch 52 Lecture No 3 Animation &#038\; AE By Sir Zeeshan Naeem
  is inviting you to a scheduled Zoom meeting.\n\nJoin Zoom Meeting\nhttps:
 //us02web.zoom.us/j/84922609201?pwd=bGlhYnBnVmVGKzVzOWZSaEE2VFVhdz09\n\nMe
 eting ID: 84922609201\nPasscode: DSF\n
URL;VALUE=URI:https://us02web.zoom.us/j/84922609201?pwd=bGlhYnBnVmVGKzVzOWZSaEE2VFVhdz09
DTSTART:20231014T121500Z
DTEND:20231014T130000Z
DTSTAMP:20260420T085115Z
BEGIN:VALARM
ACTION:DISPLAY
DESCRIPTION:Reminder
TRIGGER;RELATED=START:-PT15M
END:VALARM
END:VEVENT
END:VCALENDAR